BEGIN:VCALENDAR
VERSION:2.0
PRODID:-//Comarca de las Cinco Villas - Turismo - ECPv6.15.20//NONSGML v1.0//EN
CALSCALE:GREGORIAN
METHOD:PUBLISH
X-ORIGINAL-URL:https://turismocincovillas.com
X-WR-CALDESC:Eventos para Comarca de las Cinco Villas - Turismo
REFRESH-INTERVAL;VALUE=DURATION:PT1H
X-Robots-Tag:noindex
X-PUBLISHED-TTL:PT1H
BEGIN:VTIMEZONE
TZID:UTC
BEGIN:STANDARD
TZOFFSETFROM:+0000
TZOFFSETTO:+0000
TZNAME:UTC
DTSTART:20230101T000000
END:STANDARD
END:VTIMEZONE
BEGIN:VEVENT
DTSTART;TZID=UTC:20241123T080000
DTEND;TZID=UTC:20241125T170000
DTSTAMP:20260425T001456
CREATED:20241119T222104Z
LAST-MODIFIED:20241122T222730Z
UID:27748-1732348800-1732554000@turismocincovillas.com
SUMMARY:FIESTAS DE INVIERNO EN MARRACOS
DESCRIPTION:Durante este fin de semana\, la localidad cincovillesa de Marracos celebra sus fiestas de invierno. Serán varios días de diversión con actuaciones tan sorprendentes como la de Leticia Sabater\, el sábado\, 23 de noviembre\, a las 23.00 horas\, pero\, además\, habrá un mercadillo de productos artesanos\, hinchables\, música y baile y mucha\, mucha diversión. El lunes\, 25 de noviembre\, será el día especialmente pensado para los mayores\, con actuaciones como ‘Vamos al Noa’\, una propuesta incluida en la programación ‘Al abrigo en Cinco Villas’ que sufraga la entidad comarcal.\n\n\n \n\n\nLas fiestas de invierno de Marracos se organizan en honor de su patrona\, Santa Catalina\, durante tres días la localidad cincovillesa acoge a todo aquel que quiere acercarse a descubrir este bello municipio cincovillés\, unos días llenos de diversión que organizan desde el ayuntamiento y la comisión de festejos. “Queremos que durante unos días disfruten nuestros vecinos y vecinas”\, reconoce el alcalde de la localidad. Antonio Márquez. Un invitación que se hace extensiva “a todos los municipios de la zona\, quedáis todos invitados a disfrutar de nuestras fiestas”\, concluye Márquez. \n\n\n 
URL:https://turismocincovillas.com/evento-de-la-comarca/fiestas-de-invierno-en-marracos/
ATTACH;FMTTYPE=image/jpeg:https://turismocincovillas.com/wp-content/uploads/2024/11/fiestas-NIBxVD.tmp_.jpg
END:VEVENT
BEGIN:VEVENT
DTSTART;TZID=UTC:20241124T080000
DTEND;TZID=UTC:20241124T170000
DTSTAMP:20260425T001456
CREATED:20241116T220417Z
LAST-MODIFIED:20241123T224846Z
UID:27632-1732435200-1732467600@turismocincovillas.com
SUMMARY:CARRERAS 5K CONTRA LA VIOLENCIA DE GÉNERO\, LUESIA\, 24 DE NOVIEMBRE
DESCRIPTION:CARRERAS 5K CONTRA LA VIOLENCIA DE GÉNERO \nVuelven las Carreras 5K Contra la Violencia de Género en las Cinco Villas 2024. Ya están abiertas las inscripciones para participar en las siguientes pruebas que se han programado: Luesia (24 de noviembre) y Biota (1 de diciembre). \nActividad gratuita\, solo requiere inscripción\, pinchando aquí: https://www.cronolimits2020.com/5k5v-contra-la-violencia-de-genero-en-comarca-cinco-villas-2024/\nReglamento de participación aquí: https://www.comarcacincovillas.es/wp-content/uploads/2024/10/reglamento-5v5k-24.pdf
URL:https://turismocincovillas.com/evento-de-la-comarca/carreras-5k-contra-la-violencia-de-genero-luesia-24-de-noviembre/
ATTACH;FMTTYPE=image/jpeg:https://turismocincovillas.com/wp-content/uploads/2024/11/1-scaled-DIekGy.tmp_.jpg
END:VEVENT
END:VCALENDAR