BEGIN:VCALENDAR
VERSION:2.0
PRODID:-//Comarca de las Cinco Villas - Turismo - ECPv6.15.20//NONSGML v1.0//EN
CALSCALE:GREGORIAN
METHOD:PUBLISH
X-ORIGINAL-URL:https://turismocincovillas.com
X-WR-CALDESC:Eventos para Comarca de las Cinco Villas - Turismo
REFRESH-INTERVAL;VALUE=DURATION:PT1H
X-Robots-Tag:noindex
X-PUBLISHED-TTL:PT1H
BEGIN:VTIMEZONE
TZID:UTC
BEGIN:STANDARD
TZOFFSETFROM:+0000
TZOFFSETTO:+0000
TZNAME:UTC
DTSTART:20230101T000000
END:STANDARD
END:VTIMEZONE
BEGIN:VEVENT
DTSTART;TZID=UTC:20241206T080000
DTEND;TZID=UTC:20241207T170000
DTSTAMP:20260424T223606
CREATED:20241205T232145Z
LAST-MODIFIED:20241205T232146Z
UID:28418-1733472000-1733590800@turismocincovillas.com
SUMMARY:SOS\, UNA NAVIDAD DE CUENTO
DESCRIPTION:SOS\, UNA NAVIDAD DE CUENTO\n\n\n \n\n\nLa localidad cincovillesa de Sos del Rey Católico vivirá intensamente la Navidad y lo hará convirtiendo el municipio en un espacio lleno de luz y de decoración navideña. Son muchas las citas que se organizan para conmemorar estas entrañables fiestas\, entre ellas\, mañana\, 6 de diciembre\, habrá un taller de decoración navideña\, se procederá al encendido de las luces\, habrá un vino de honor y se inaugurará el árbol de los deseos. Además\, durante el 7 y el 8 de diciembre\, en el Palacio Español del Niño se celebrará una feria navideña en la que poder encontrar regalos y delicias para endulzar estos días. \n\n\n \n\n\nConsulta la programación completa en el cartel adjunto. \n\n\n 
URL:https://turismocincovillas.com/evento-de-la-comarca/sos-una-navidad-de-cuento/
ATTACH;FMTTYPE=image/jpeg:https://turismocincovillas.com/wp-content/uploads/2024/12/sos-bueno-scaled-BsoeG7.tmp_.jpg
END:VEVENT
BEGIN:VEVENT
DTSTART;TZID=UTC:20241206T080000
DTEND;TZID=UTC:20241208T170000
DTSTAMP:20260424T223606
CREATED:20241205T232146Z
LAST-MODIFIED:20241205T232146Z
UID:28420-1733472000-1733677200@turismocincovillas.com
SUMMARY:URRIÉS CELEBRA SANTA BÁRBARA
DESCRIPTION:URRIÉS CELEBRA SANTA BÁRBARA\n\n\n \n\n\nDurante los próximos días\, del 6 al 8 de diciembre\, la localidad cincovillesa de Urriés festejará a su patrona\, Santa Bárbara\, con múltiples actividades\, entre las que se incluye su clásica hoguera. Consulta la programación en el cartel adjunto. \n\n\n 
URL:https://turismocincovillas.com/evento-de-la-comarca/urries-celebra-santa-barbara/
ATTACH;FMTTYPE=image/jpeg:https://turismocincovillas.com/wp-content/uploads/2024/12/urries-iKEMYc.tmp_.jpg
END:VEVENT
BEGIN:VEVENT
DTSTART;TZID=UTC:20241206T080000
DTEND;TZID=UTC:20241209T170000
DTSTAMP:20260424T223606
CREATED:20241205T232147Z
LAST-MODIFIED:20241205T232148Z
UID:28426-1733472000-1733763600@turismocincovillas.com
SUMMARY:ACTIVIDADES PRENAVIDEÑAS EN SÁDABA
DESCRIPTION:Durante todo el puente\, del 6 al 9 de diciembre\, el municipio cincovillés de Sádaba acogerá múltiples actividades para todos los gustos. Talleres\, mercadillo navideño\, música con la banda municipal\, actividades de los quintos 2025\, fútbol con los veteranos del Zaragoza\, que se enfrentarán al CD Sadabense\, y espectáculos incluidos en la programación ‘Al abrigo en Cinco Villas’\, que patrocina la Comarca de Cinco Villas\, igual que el cinefórum\, que se organiza el viernes\, 6 de diciembre\, una de las actividades incluidas en la programación para reivindicar el 25N\, Día Internacional contra la Violencia de Género contra las Mujeres\, que organiza la entidad comarcal\, a través de sus servicios sociales. \nConsulta toda la programación en el cartel adjunto.
URL:https://turismocincovillas.com/evento-de-la-comarca/actividades-prenavidenas-en-sadaba/
ATTACH;FMTTYPE=image/jpeg:https://turismocincovillas.com/wp-content/uploads/2024/12/sadab-bueno-2-gn2hOg.tmp_.jpg
END:VEVENT
BEGIN:VEVENT
DTSTART;VALUE=DATE:20241207
DTEND;VALUE=DATE:20241208
DTSTAMP:20260424T223606
CREATED:20241205T232148Z
LAST-MODIFIED:20241206T232207Z
UID:28431-1733529600-1733615999@turismocincovillas.com
SUMMARY:UNCASTILLO SE LLENA DE NAVIDAD
DESCRIPTION:UNCASTILLO SE LLENA DE NAVIDAD\n\n\n \n\n\nEl 7 de diciembre\, domingo\, tendrá lugar en Uncastillo su clásica feria de Navidad. Será en el polideportivo y estará abierta de 11.00 a 14.30 horas y de 16.00 a 20.00 horas. En ella habrá artesanía\, talleres\, música\, etc. Y\, para complementar esta jornada\, a las 17.30 horas\, XXVIII Muestra de Repostería Villa de Uncastillo en la que se podrán degustar los postres locales. Una cita organizada por la Asociación el Cuco\, en colaboración con el Ayuntamiento de Uncastillo. \n\n\n 
URL:https://turismocincovillas.com/evento-de-la-comarca/uncastillo-se-llena-de-navidad/
ATTACH;FMTTYPE=image/jpeg:https://turismocincovillas.com/wp-content/uploads/2024/12/uncastillop-cjAzOk.tmp_.jpg
END:VEVENT
BEGIN:VEVENT
DTSTART;VALUE=DATE:20241207
DTEND;VALUE=DATE:20241209
DTSTAMP:20260424T223606
CREATED:20241128T230842Z
LAST-MODIFIED:20241206T232207Z
UID:28084-1733529600-1733702399@turismocincovillas.com
SUMMARY:PROGRAMACIÓN CULTURAL ‘AL ABRIGO EN CINCO VILLAS’  7 y 8 DE DICIEMBRE
DESCRIPTION:PROGRAMACIÓN CULTURAL ‘AL ABRIGO EN CINCO VILLAS’  7 y 8 DE DICIEMBRE \n7 DE DICIIEMBRE \nALERA\, PANDORA\, a las 19.00 horas\, en el Casino. \nISUERRE\, ELEM\, a las 19\,30 horas\, en el Centro de Interpretación. \nFUENCALDERAS\, VAMOS AL NOA\, a las 19\,00 horas\, en las Escuelas. \nFARASDUÉS\, LUIS MACIAS a las 16\,30 horas\, en el Salón de Baile. \nEL BAYO\, JAVI MALABARES a las 18\,00 horas\, en el Cine. \nBIOTA\, CRISTINA VERBENA a las 17\,00 horas en la Biblioteca. \nBAGÜÉS\, ENTRE BAMBALINAS a las 18.00 horas\, en el Local social. \nVALAREÑA\, CIA LE PUANT a las 17\,30 horas\, en el cine. \nSÁDABA\, BORBOLETA a las 18\,30 horas\, en el Centro Cultural Polivalente. \n8 DE DICIEMBRE \nSIERRA DE LUNA\, SIMELASE a las 19\,00 horas en el Salón cultural. \nEsta programación cultural está financiada por la Comarca de Cinco Villas\, a través de su consejería de Cultura. \n  \n 
URL:https://turismocincovillas.com/evento-de-la-comarca/programacion-cultural-al-abrigo-en-cinco-villas-7-y-8-de-diciembre/
ATTACH;FMTTYPE=image/jpeg:https://turismocincovillas.com/wp-content/uploads/2024/10/al-abrigo-2024-cartel-general-scaled-KjrN96.tmp_.jpg
END:VEVENT
END:VCALENDAR