BEGIN:VCALENDAR
VERSION:2.0
PRODID:-//Comarca de las Cinco Villas - Turismo - ECPv6.15.20//NONSGML v1.0//EN
CALSCALE:GREGORIAN
METHOD:PUBLISH
X-ORIGINAL-URL:https://turismocincovillas.com
X-WR-CALDESC:Eventos para Comarca de las Cinco Villas - Turismo
REFRESH-INTERVAL;VALUE=DURATION:PT1H
X-Robots-Tag:noindex
X-PUBLISHED-TTL:PT1H
BEGIN:VTIMEZONE
TZID:UTC
BEGIN:STANDARD
TZOFFSETFROM:+0000
TZOFFSETTO:+0000
TZNAME:UTC
DTSTART:20230101T000000
END:STANDARD
END:VTIMEZONE
BEGIN:VEVENT
DTSTART;TZID=UTC:20241206T080000
DTEND;TZID=UTC:20241209T170000
DTSTAMP:20260424T223611
CREATED:20241205T232147Z
LAST-MODIFIED:20241205T232148Z
UID:28426-1733472000-1733763600@turismocincovillas.com
SUMMARY:ACTIVIDADES PRENAVIDEÑAS EN SÁDABA
DESCRIPTION:Durante todo el puente\, del 6 al 9 de diciembre\, el municipio cincovillés de Sádaba acogerá múltiples actividades para todos los gustos. Talleres\, mercadillo navideño\, música con la banda municipal\, actividades de los quintos 2025\, fútbol con los veteranos del Zaragoza\, que se enfrentarán al CD Sadabense\, y espectáculos incluidos en la programación ‘Al abrigo en Cinco Villas’\, que patrocina la Comarca de Cinco Villas\, igual que el cinefórum\, que se organiza el viernes\, 6 de diciembre\, una de las actividades incluidas en la programación para reivindicar el 25N\, Día Internacional contra la Violencia de Género contra las Mujeres\, que organiza la entidad comarcal\, a través de sus servicios sociales. \nConsulta toda la programación en el cartel adjunto.
URL:https://turismocincovillas.com/evento-de-la-comarca/actividades-prenavidenas-en-sadaba/
ATTACH;FMTTYPE=image/jpeg:https://turismocincovillas.com/wp-content/uploads/2024/12/sadab-bueno-2-gn2hOg.tmp_.jpg
END:VEVENT
END:VCALENDAR