BEGIN:VCALENDAR
VERSION:2.0
PRODID:-//Comarca de las Cinco Villas - Turismo - ECPv6.15.20//NONSGML v1.0//EN
CALSCALE:GREGORIAN
METHOD:PUBLISH
X-ORIGINAL-URL:https://turismocincovillas.com
X-WR-CALDESC:Eventos para Comarca de las Cinco Villas - Turismo
REFRESH-INTERVAL;VALUE=DURATION:PT1H
X-Robots-Tag:noindex
X-PUBLISHED-TTL:PT1H
BEGIN:VTIMEZONE
TZID:UTC
BEGIN:STANDARD
TZOFFSETFROM:+0000
TZOFFSETTO:+0000
TZNAME:UTC
DTSTART:20230101T000000
END:STANDARD
END:VTIMEZONE
BEGIN:VEVENT
DTSTART;TZID=UTC:20241223T080000
DTEND;TZID=UTC:20250102T170000
DTSTAMP:20260424T223739
CREATED:20241220T144949Z
LAST-MODIFIED:20241223T144901Z
UID:29426-1734940800-1735837200@turismocincovillas.com
SUMMARY:EXPOSICIÓN ‘CINCOVILLESES DEPORTADOS EN LOS CAMPOS DE CONCENTRACIÓN’ EN EL MUSEO DE CASTILISCAR
DESCRIPTION:El Museo de Castiliscar acoge hasta el 2 de enero la exposición ‘Cincovilleses deportados a los campos de concentración. Esta muestra\, que puede verse hasta el 2 de enero -exceptuando el 1 de enero- en horario de mañana (de 11.00 a 13\,30 horas) y tarde (de 15.30 a 17\,30 horas) en el Museo de Castiliscar (calle del Rosario\, 1)\, de forma gratuita\, es fruto de la colaboración de varias instituciones\, como el consistorio castilicense y la Comarca de Cinco Villas.
URL:https://turismocincovillas.com/evento-de-la-comarca/exposicion-cincovilleses-deportados-en-los-campos-de-concentracion-en-el-museo-de-castiliscar/
ATTACH;FMTTYPE=image/jpeg:https://turismocincovillas.com/wp-content/uploads/2024/12/cartel-expo-castiliscar-HOTJD4.tmp_.jpg
END:VEVENT
BEGIN:VEVENT
DTSTART;VALUE=DATE:20241224
DTEND;VALUE=DATE:20250101
DTSTAMP:20260424T223739
CREATED:20241220T144952Z
LAST-MODIFIED:20241224T150427Z
UID:29430-1734998400-1735689599@turismocincovillas.com
SUMMARY:ACTIVIDADES NAVIDEÑAS EN CASTEJÓN DE VALDEJASA Y CASTILISCAR
DESCRIPTION:CASTEJÓN DE VALDEJASA SE DINAMIZA POR NAVIDAD\n\n\n \n\n\nEl Ayuntamiento de Castejón de Valdejasa\, en colaboración con la Asociación de Mujeres y el Club Deportivo\, organiza múltiples actividad para dinamizar estos días de Navidad. Hay cine\, cabalgata de Reyes\, también llegará Papá Noel. Consulta la programación en el cartel adjunto.\n\n\n\n\n\nMÚSICA\, MAGIA Y DEPORTE\, PROTAGONISTAS DE LA NAVIDAD EN CASTILISCAR\n\n\n \n\n\nEl Ayuntamiento de Castiliscar ha diseñado para estos días un completo programa de actividades navideñas que comienzan hoy\, a las 19\,00 horas\, con la llegada de Papá Noel al Salón del Centro de Convivencia. Posteriormente\, y durante todas las fiestas\, habrá cuentacuentos\, magia\, carrera solidaria\, conciertos y más propuestas para pequeños y mayores. Consulta los horarios en el cartel adjunto.
URL:https://turismocincovillas.com/evento-de-la-comarca/actividades-navidenas-en-castejon-de-valdejasa-y-castiliscar/
ATTACH;FMTTYPE=image/jpeg:https://turismocincovillas.com/wp-content/uploads/2024/12/castejon-imZRm7.tmp_.jpg
END:VEVENT
BEGIN:VEVENT
DTSTART;TZID=UTC:20241225T080000
DTEND;TZID=UTC:20250105T170000
DTSTAMP:20260424T223739
CREATED:20241220T144954Z
LAST-MODIFIED:20241225T150607Z
UID:29435-1735113600-1736096400@turismocincovillas.com
SUMMARY:NAVIDAD DE CUENTO EN SOS DEL REY CATÓLICO
DESCRIPTION:Vive una Navidad de cuento en Sos del Rey Católico. Consulta la programación y disfruta de las actividades que incluyen propuestas para niños y mayores. Disfruta de la Navidad en uno de los Pueblos más Bonitos de España.
URL:https://turismocincovillas.com/evento-de-la-comarca/navidad-de-cuento-en-sos-del-rey-catolico/
ATTACH;FMTTYPE=image/jpeg:https://turismocincovillas.com/wp-content/uploads/2024/12/2-2-scaled-F8XTMi.tmp_.jpg
END:VEVENT
BEGIN:VEVENT
DTSTART;VALUE=DATE:20241226
DTEND;VALUE=DATE:20241230
DTSTAMP:20260424T223739
CREATED:20241212T235123Z
LAST-MODIFIED:20241226T150627Z
UID:29030-1735171200-1735516799@turismocincovillas.com
SUMMARY:PROGRAMACIÓN CULTURAL ‘AL ABRIGO EN CINCO VILLAS’ del 21 Y 23  DE DICIEMBRE
DESCRIPTION:PROGRAMACIÓN CULTURAL ‘AL ABRIGO EN CINCO VILLAS’ DEL 26 AL 29 DE DICIEMBRE \n26 DE DICIEMBRE \nTAUSTE\, TINÍN EL MAGO\, 18.00 horas\, salón de actos de la Casa de Cultura. \n27 DE DICIEMBRE \nVALAREÑA\, SORAYA HERRÁEZ\, 17.00 horas\, salón de cine. \n28 DE DICIEMBRE \nCASTILISCAR\, MAGA ZAPATA\, 17.30 horas\, salón convivencia. \nVALPALMAS\, JAVI MALABARES\, 19.00 horas\, pabellón de Santa Ana. \n29 DE DICIEMBRE+ \nSÁDABA\, CIA LE PUANT\, 18.30 horas\, Centro Cultural Polivalente. \n  \nEsta programación cultural está financiada por la Comarca de Cinco Villas\, a través de su consejería de Cultura. \n\n\n\n				\n			\n\n\n\n				\n			\n\n\n\n				\n			\n\n\n\n				\n			\n\n\n\n				\n			\n\n 
URL:https://turismocincovillas.com/evento-de-la-comarca/programacion-cultural-al-abrigo-en-cinco-villas-del-21-y-23-de-diciembre-2/
ATTACH;FMTTYPE=image/jpeg:https://turismocincovillas.com/wp-content/uploads/2024/10/al-abrigo-2024-cartel-general-scaled-KjrN96.tmp_.jpg
END:VEVENT
END:VCALENDAR